BEGIN:VCALENDAR
VERSION:2.0
PRODID:icalendar-ruby
CALSCALE:GREGORIAN
METHOD:PUBLISH
BEGIN:VEVENT
DTSTAMP:20260422T224905Z
UID:9-1264751@myccag.com
DTSTART:20261004T190000Z
DTEND:20261004T210000Z
CLASS:PUBLIC
CREATED:20260422T151452
DESCRIPTION:Join us every Sunday at 3:00 PM in the Ed Building for a time o
 f Bible Study in Spanish.
LAST-MODIFIED:20260422T151452
LOCATION:Education Center
SUMMARY:Spanish Small Groups
URL;VALUE=URI:https://www.myccag.com/events/spanish-small-groups/2026-10-04
ATTACH;FILENAME=unnamed.jpg;FMTTYPE=image/jpeg:https://dq5pwpg1q8ru0.cloudf
 ront.net/2025/09/04/16/33/36/9f9fa054-4151-4b7d-9a5d-5cabca81f92a/unnamed.
 jpg
END:VEVENT
END:VCALENDAR
